Workbook

Sheet Data
A1: INDICADOR | E1: EJECUTADO | F1: META | G1: %
A2: OBSERVACIÓN PLANEADA DEL TRABAJO (OPT) | E2: 14 | F2: 15 | G2: =+E2/F2 -> 0.93333333
A3: CHARLAS 5 MINUTOS | E3: 24 | F3: 26 | G3: =+E3/F3 -> 0.92307692
A4: INSPECCIONES PLANEADAS | E4: 7 | F4: 8 | G4: =+E4/F4 -> 0.875
A5: REPORTES DE PELIGRO | E5: 29 | F5: 30 | G5: =+E5/F5 -> 0.96666667
A6: REUNIONES GRUPALES | E6: 11 | F6: 12 | G6: =+E6/F6 -> 0.91666667
A7: CUMPLIMIENTO MENSUAL GENERAL | G7: =+AVERAGE(G2:G6) -> 0.92294872
A11: Horas Hombre Trabajadas | D11: 2200 | F11: Índice de frecuencia | H11: =IFERROR(D12/D11*10^6,"") -> 909.09091
A12: Número de Accidentes | D12: 2 | F12: Índice de gravedad | H12: =IFERROR(D13*1000/D11,"") -> 0.45454545
A13: Días Perdidos | D13: 1 | F13: Índice de incidencia | H13: =IFERROR(D12/D14*1000,"") -> 80
A14: Número de trabajadores | D14: 25

Sheet Dashboard
A2: ESTADO DE CUMPLIMIENTO MENSUAL
W4: =+X4 -> 0.1 | X4: 0.1 | Y4: =+Data!G2 -> 0.93333333 | Z4: =+Data!G3 -> 0.92307692 | AA4: =+Data!G4 -> 0.875 | AB4: =+Data!G5 -> 0.96666667 | AC4: =+Data!G6 -> 0.91666667
W5: =+W4+X5 -> 0.2 | X5: 0.1 | Y5: 0.02 | Z5: 0.02 | AA5: 0.02 | AB5: 0.02 | AC5: 0.02
W6: =+W5+X6 -> 0.3 | X6: 0.1 | Y6: =2-$Y$4+1% -> 1.0766667 | Z6: =2-$Z$4+1% -> 1.0869231 | AA6: =2-AA4+1% -> 1.135 | AB6: =2-AB4+1% -> 1.0433333 | AC6: =2-AC4+1% -> 1.0933333
W7: =+W6+X7 -> 0.4 | X7: 0.1
W8: =+W7+X8 -> 0.5 | X8: 0.1
W9: =+W8+X9 -> 0.6 | X9: 0.1
W10: =+W9+X10 -> 0.7 | X10: 0.1
W11: =+W10+X11 -> 0.8 | X11: 0.1
W12: =+W11+X12 -> 0.9 | X12: 0.1
W13: =+W12+X13 -> 1 | X13: 0.1
X14: =SUM(X4:X13) -> 1
